BEGIN:VCALENDAR
VERSION:2.0
PRODID:-//Getaway Trekking &amp; Adventures - ECPv6.5.1.6//NONSGML v1.0//EN
CALSCALE:GREGORIAN
METHOD:PUBLISH
X-WR-CALNAME:Getaway Trekking &amp; Adventures
X-ORIGINAL-URL:https://getawaytrekking.com.au
X-WR-CALDESC:Events for Getaway Trekking &amp; Adventures
REFRESH-INTERVAL;VALUE=DURATION:PT1H
X-Robots-Tag:noindex
X-PUBLISHED-TTL:PT1H
BEGIN:VTIMEZONE
TZID:Australia/Melbourne
BEGIN:STANDARD
TZOFFSETFROM:+1100
TZOFFSETTO:+1000
TZNAME:AEST
DTSTART:20210403T160000
END:STANDARD
BEGIN:DAYLIGHT
TZOFFSETFROM:+1000
TZOFFSETTO:+1100
TZNAME:AEDT
DTSTART:20211002T160000
END:DAYLIGHT
BEGIN:STANDARD
TZOFFSETFROM:+1100
TZOFFSETTO:+1000
TZNAME:AEST
DTSTART:20220402T160000
END:STANDARD
BEGIN:DAYLIGHT
TZOFFSETFROM:+1000
TZOFFSETTO:+1100
TZNAME:AEDT
DTSTART:20221001T160000
END:DAYLIGHT
BEGIN:STANDARD
TZOFFSETFROM:+1100
TZOFFSETTO:+1000
TZNAME:AEST
DTSTART:20230401T160000
END:STANDARD
BEGIN:DAYLIGHT
TZOFFSETFROM:+1000
TZOFFSETTO:+1100
TZNAME:AEDT
DTSTART:20230930T160000
END:DAYLIGHT
BEGIN:STANDARD
TZOFFSETFROM:+1100
TZOFFSETTO:+1000
TZNAME:AEST
DTSTART:20240406T160000
END:STANDARD
BEGIN:DAYLIGHT
TZOFFSETFROM:+1000
TZOFFSETTO:+1100
TZNAME:AEDT
DTSTART:20241005T160000
END:DAYLIGHT
BEGIN:STANDARD
TZOFFSETFROM:+1100
TZOFFSETTO:+1000
TZNAME:AEST
DTSTART:20250405T160000
END:STANDARD
BEGIN:DAYLIGHT
TZOFFSETFROM:+1000
TZOFFSETTO:+1100
TZNAME:AEDT
DTSTART:20251004T160000
END:DAYLIGHT
END:VTIMEZONE
BEGIN:VEVENT
DTSTART;TZID=Australia/Melbourne:20250106T074500
DTEND;TZID=Australia/Melbourne:20250106T160000
DTSTAMP:20260425T050602
CREATED:20250106T054954Z
LAST-MODIFIED:20250106T054954Z
UID:10000082-1736149500-1736179200@getawaytrekking.com.au
SUMMARY:Hacketts Rd
DESCRIPTION:7.45am Meet for 8.00am Start\n15kms\n5-6 hours\nDeb Manders\n0488 030 149
URL:https://getawaytrekking.com.au/trainingwalk/hacketts-rd/
LOCATION:Doongalla Homestead\, Doongalla Homestead\, The Basin\, Victoria\, 3788\, Australia
CATEGORIES:Victoria
GEO:-37.8614186;145.3139007
X-APPLE-STRUCTURED-LOCATION;VALUE=URI;X-ADDRESS=Doongalla Homestead Doongalla Homestead The Basin Victoria 3788 Australia;X-APPLE-RADIUS=500;X-TITLE=Doongalla Homestead:geo:145.3139007,-37.8614186
END:VEVENT
BEGIN:VEVENT
DTSTART;TZID=Australia/Melbourne:20210626T074500
DTEND;TZID=Australia/Melbourne:20210626T140000
DTSTAMP:20260425T050602
CREATED:20210113T041344Z
LAST-MODIFIED:20210113T041344Z
UID:10000053-1624693500-1624716000@getawaytrekking.com.au
SUMMARY:Hacketts Road
DESCRIPTION:7.45am Meet for 8.00am Start\nDistance: 15km
URL:https://getawaytrekking.com.au/trainingwalk/hacketts-road/
LOCATION:Doongalla Homestead\, Doongalla Homestead\, The Basin\, Victoria\, 3788\, Australia
CATEGORIES:Victoria
GEO:-37.8614186;145.3139007
X-APPLE-STRUCTURED-LOCATION;VALUE=URI;X-ADDRESS=Doongalla Homestead Doongalla Homestead The Basin Victoria 3788 Australia;X-APPLE-RADIUS=500;X-TITLE=Doongalla Homestead:geo:145.3139007,-37.8614186
END:VEVENT
END:VCALENDAR